{"text_format":"1","workbook":"xlsx","n_sheets":3,"sheets":["Request Form","Data","Reference_data"],"not_rendered":{"charts":0,"images":353,"macros":1,"external_links":0,"defined_names":110,"comments":0,"pivot_tables":0},"unopened":[],"bounds":{"document_bytes":16777216,"sheet_cells":100000,"rows_first":2000,"rows_last":500,"rows_between":2000,"halvings":0,"cell_chars":16384,"cell_head_chars":4096},"cells_cut":0,"cells_raw":0,"read":"whole","date_system":"1900"}

{"sheet":"Request Form","index":0,"n_rows":10,"n_cols":17,"rows_kept":10,"cut":false,"hidden":false,"merged":[[2,1,2,2]]}
["                      GROUP REQUEST FORM (maximum 50 requests per Excel workbook)",null,null,null,null,null,null,"Version 1.0"]
["*Account No:",null,null,"Request Date:"]
["*Accout Name:",null,null,"Email Address:"]
[" Language:"]
["* Leave blank if n/a"]
["Request Type","* Tour Name/Reference","* Outward Route","* Outward Date","* Outward Time","* Return Route","* Return Date","* Return Time","* No of Driver/Crew","* No of Adults","* No of Children","* No of Infants","Youth / Student Group","Vehicle type","Cabins (NS)"," Meals (NS)","Any additional info"]
["Booking","Sample Tour","DOCA","2022-03-15","15:00:00","CADO","2022-03-15","16:00:00",1,18,5,4,"Youth group","Coach","5x4bth inside","Breakfast for all","free text"]
[]
[]
[null,null,null,null,null,null,null," "]

{"sheet":"Data","index":1,"n_rows":51,"n_cols":22,"rows_kept":51,"cut":false,"hidden":true,"merged":[]}
["Outward_Date","Request_Date","Email_Address","Request_Type","Account_Number","Account_Name","Language","Tour_Reference","Outward_Route","Outward_Time","Return_Route","Return_Date","Return_Time","Driver","Adults","Children","Infants","Restricted","Vehicle_Type","Cabins (NS)"," Meals (NS)","Any additional info"]
[{"$f":"IF('Request Form'!$D8<>\"\",'Request Form'!$D8,\"\")","v":""},{"$f":"IF(AND('Request Form'!$E$2<>\"\",A2<>\"\"),'Request Form'!$E$2,\"\")","v":""},{"$f":"IF(AND('Request Form'!$E$3<>\"\",A2<>\"\"),'Request Form'!$E$3,\"\")","v":""},0,{"$f":"IF(AND('Request Form'!$B$2<>\"\",A2<>\"\"),'Request Form'!$B$2,\"\")","v":""},{"$f":"IF(AND('Request Form'!$B$3<>\"\",A2<>\"\"),'Request Form'!$B$3,\"\")","v":""},0,{"$f":"IF('Request Form'!$B8<>\"\",'Request Form'!$B8,\"\")","v":""},0,0,0,{"$f":"IF('Request Form'!$G8<>\"\",'Request Form'!$G8,\"\")","v":""},0,{"$f":"IF('Request Form'!$I8<>\"\",'Request Form'!$I8,\"\")","v":""},{"$f":"IF('Request Form'!$J8<>\"\",'Request Form'!$J8,\"\")","v":""},{"$f":"IF('Request Form'!$K8<>\"\",'Request Form'!$K8,\"\")","v":""},{"$f":"IF('Request Form'!$L8<>\"\",'Request Form'!$L8,\"\")","v":""},0,0,{"$f":"IF('Request Form'!$O8<>\"\",'Request Form'!$O8,\"\")","v":""},{"$f":"IF('Request Form'!$P8<>\"\",'Request Form'!$P8,\"\")","v":""},{"$f":"IF('Request Form'!$Q8<>\"\",'Request Form'!$Q8,\"\")","v":""}]
[{"$f":"IF('Request Form'!$D9<>\"\",'Request Form'!$D9,\"\")","v":""},{"$f":"IF(AND('Request Form'!$E$2<>\"\",A3<>\"\"),'Request Form'!$E$2,\"\")","v":""},{"$f":"IF(AND('Request Form'!$E$3<>\"\",A3<>\"\"),'Request Form'!$E$3,\"\")","v":""},0,{"$f":"IF(AND('Request Form'!$B$2<>\"\",A3<>\"\"),'Request Form'!$B$2,\"\")","v":""},{"$f":"IF(AND('Request Form'!$B$3<>\"\",A3<>\"\"),'Request Form'!$B$3,\"\")","v":""},{"$f":"IF(A3<>\"\",$G$2,\"\")","v":""},{"$f":"IF('Request Form'!$B9<>\"\",'Request Form'!$B9,\"\")","v":""},0,0,0,{"$f":"IF('Request Form'!$G9<>\"\",'Request Form'!$G9,\"\")","v":""},0,{"$f":"IF('Request Form'!$I9<>\"\",'Request Form'!$I9,\"\")","v":""},{"$f":"IF('Request Form'!$J9<>\"\",'Request Form'!$J9,\"\")","v":""},{"$f":"IF('Request Form'!$K9<>\"\",'Request Form'!$K9,\"\")","v":""},{"$f":"IF('Request Form'!$L9<>\"\",'Request Form'!$L9,\"\")","v":""},0,0,{"$f":"IF('Request Form'!$O9<>\"\",'Request Form'!$O9,\"\")","v":""},{"$f":"IF('Request Form'!$P9<>\"\",'Request Form'!$P9,\"\")","v":""},{"$f":"IF('Request Form'!$Q9<>\"\",'Request Form'!$Q9,\"\")","v":""}]
[{"$f":"IF('Request Form'!$D10<>\"\",'Request Form'!$D10,\"\")","v":""},{"$f":"IF(AND('Request Form'!$E$2<>\"\",A4<>\"\"),'Request Form'!$E$2,\"\")","v":""},{"$f":"IF(AND('Request Form'!$E$3<>\"\",A4<>\"\"),'Request Form'!$E$3,\"\")","v":""},0,{"$f":"IF(AND('Request Form'!$B$2<>\"\",A4<>\"\"),'Request Form'!$B$2,\"\")","v":""},{"$f":"IF(AND('Request Form'!$B$3<>\"\",A4<>\"\"),'Request Form'!$B$3,\"\")","v":""},{"$f":"IF(A4<>\"\",$G$2,\"\")","v":""},{"$f":"IF('Request Form'!$B10<>\"\",'Request Form'!$B10,\"\")","v":""},0,0,0,{"$f":"IF('Request Form'!$G10<>\"\",'Request Form'!$G10,\"\")","v":""},0,{"$f":"IF('Request Form'!$I10<>\"\",'Request Form'!$I10,\"\")","v":""},{"$f":"IF('Request Form'!$J10<>\"\",'Request Form'!$J10,\"\")","v":""},{"$f":"IF('Request Form'!$K10<>\"\",'Request Form'!$K10,\"\")","v":""},{"$f":"IF('Request Form'!$L10<>\"\",'Request Form'!$L10,\"\")","v":""},0,0,{"$f":"IF('Request Form'!$O10<>\"\",'Request Form'!$O10,\"\")","v":""},{"$f":"IF('Request Form'!$P10<>\"\",'Request Form'!$P10,\"\")","v":""},{"$f":"IF('Request Form'!$Q10<>\"\",'Request Form'!$Q10,\"\")","v":""}]
[{"$f":"IF('Request Form'!$D11<>\"\",'Request Form'!$D11,\"\")","v":""},{"$f":"IF(AND('Request Form'!$E$2<>\"\",A5<>\"\"),'Request Form'!$E$2,\"\")","v":""},{"$f":"IF(AND('Request Form'!$E$3<>\"\",A5<>\"\"),'Request Form'!$E$3,\"\")","v":""},0,{"$f":"IF(AND('Request Form'!$B$2<>\"\",A5<>\"\"),'Request Form'!$B$2,\"\")","v":""},{"$f":"IF(AND('Request Form'!$B$3<>\"\",A5<>\"\"),'Request Form'!$B$3,\"\")","v":""},"",{"$f":"IF('Request Form'!$B11<>\"\",'Request Form'!$B11,\"\")","v":""},0,0,0,{"$f":"IF('Request Form'!$G11<>\"\",'Request Form'!$G11,\"\")","v":""},0,{"$f":"IF('Request Form'!$I11<>\"\",'Request Form'!$I11,\"\")","v":""},{"$f":"IF('Request Form'!$J11<>\"\",'Request Form'!$J11,\"\")","v":""},{"$f":"IF('Request Form'!$K11<>\"\",'Request Form'!$K11,\"\")","v":""},{"$f":"IF('Request Form'!$L11<>\"\",'Request Form'!$L11,\"\")","v":""},0,0,{"$f":"IF('Request Form'!$O11<>\"\",'Request Form'!$O11,\"\")","v":""},{"$f":"IF('Request Form'!$P11<>\"\",'Request Form'!$P11,\"\")","v":""},{"$f":"IF('Request Form'!$Q11<>\"\",'Request Form'!$Q11,\"\")","v":""}]
[{"$f":"IF('Request Form'!$D12<>\"\",'Request Form'!$D12,\"\")","v":""},{"$f":"IF(AND('Request Form'!$E$2<>\"\",A6<>\"\"),'Request Form'!$E$2,\"\")","v":""},{"$f":"IF(AND('Request Form'!$E$3<>\"\",A6<>\"\"),'Request Form'!$E$3,\"\")","v":""},0,{"$f":"IF(AND('Request Form'!$B$2<>\"\",A6<>\"\"),'Request Form'!$B$2,\"\")","v":""},{"$f":"IF(AND('Request Form'!$B$3<>\"\",A6<>\"\"),'Request Form'!$B$3,\"\")","v":""},"",{"$f":"IF('Request Form'!$B12<>\"\",'Request Form'!$B12,\"\")","v":""},0,0,0,{"$f":"IF('Request Form'!$G12<>\"\",'Request Form'!$G12,\"\")","v":""},0,{"$f":"IF('Request Form'!$I12<>\"\",'Request Form'!$I12,\"\")","v":""},{"$f":"IF('Request Form'!$J12<>\"\",'Request Form'!$J12,\"\")","v":""},{"$f":"IF('Request Form'!$K12<>\"\",'Request Form'!$K12,\"\")","v":""},{"$f":"IF('Request Form'!$L12<>\"\",'Request Form'!$L12,\"\")","v":""},0,0,{"$f":"IF('Request Form'!$O12<>\"\",'Request Form'!$O12,\"\")","v":""},{"$f":"IF('Request Form'!$P12<>\"\",'Request Form'!$P12,\"\")","v":""},{"$f":"IF('Request Form'!$Q12<>\"\",'Request Form'!$Q12,\"\")","v":""}]
[{"$f":"IF('Request Form'!$D13<>\"\",'Request Form'!$D13,\"\")","v":""},{"$f":"IF(AND('Request Form'!$E$2<>\"\",A7<>\"\"),'Request Form'!$E$2,\"\")","v":""},{"$f":"IF(AND('Request Form'!$E$3<>\"\",A7<>\"\"),'Request Form'!$E$3,\"\")","v":""},0,{"$f":"IF(AND('Request Form'!$B$2<>\"\",A7<>\"\"),'Request Form'!$B$2,\"\")","v":""},{"$f":"IF(AND('Request Form'!$B$3<>\"\",A7<>\"\"),'Request Form'!$B$3,\"\")","v":""},"",{"$f":"IF('Request Form'!$B13<>\"\",'Request Form'!$B13,\"\")","v":""},0,0,0,{"$f":"IF('Request Form'!$G13<>\"\",'Request Form'!$G13,\"\")","v":""},0,{"$f":"IF('Request Form'!$I13<>\"\",'Request Form'!$I13,\"\")","v":""},{"$f":"IF('Request Form'!$J13<>\"\",'Request Form'!$J13,\"\")","v":""},{"$f":"IF('Request Form'!$K13<>\"\",'Request Form'!$K13,\"\")","v":""},{"$f":"IF('Request Form'!$L13<>\"\",'Request Form'!$L13,\"\")","v":""},0,0,{"$f":"IF('Request Form'!$O13<>\"\",'Request Form'!$O13,\"\")","v":""},{"$f":"IF('Request Form'!$P13<>\"\",'Request Form'!$P13,\"\")","v":""},{"$f":"IF('Request Form'!$Q13<>\"\",'Request Form'!$Q13,\"\")","v":""}]
[{"$f":"IF('Request Form'!$D14<>\"\",'Request Form'!$D14,\"\")","v":""},{"$f":"IF(AND('Request Form'!$E$2<>\"\",A8<>\"\"),'Request Form'!$E$2,\"\")","v":""},{"$f":"IF(AND('Request Form'!$E$3<>\"\",A8<>\"\"),'Request Form'!$E$3,\"\")","v":""},0,{"$f":"IF(AND('Request Form'!$B$2<>\"\",A8<>\"\"),'Request Form'!$B$2,\"\")","v":""},{"$f":"IF(AND('Request Form'!$B$3<>\"\",A8<>\"\"),'Request Form'!$B$3,\"\")","v":""},"",{"$f":"IF('Request Form'!$B14<>\"\",'Request Form'!$B14,\"\")","v":""},0,0,0,{"$f":"IF('Request Form'!$G14<>\"\",'Request Form'!$G14,\"\")","v":""},0,{"$f":"IF('Request Form'!$I14<>\"\",'Request Form'!$I14,\"\")","v":""},{"$f":"IF('Request Form'!$J14<>\"\",'Request Form'!$J14,\"\")","v":""},{"$f":"IF('Request Form'!$K14<>\"\",'Request Form'!$K14,\"\")","v":""},{"$f":"IF('Request Form'!$L14<>\"\",'Request Form'!$L14,\"\")","v":""},0,0,{"$f":"IF('Request Form'!$O14<>\"\",'Request Form'!$O14,\"\")","v":""},{"$f":"IF('Request Form'!$P14<>\"\",'Request Form'!$P14,\"\")","v":""},{"$f":"IF('Request Form'!$Q14<>\"\",'Request Form'!$Q14,\"\")","v":""}]
[{"$f":"IF('Request Form'!$D15<>\"\",'Request Form'!$D15,\"\")","v":""},{"$f":"IF(AND('Request Form'!$E$2<>\"\",A9<>\"\"),'Request Form'!$E$2,\"\")","v":""},{"$f":"IF(AND('Request Form'!$E$3<>\"\",A9<>\"\"),'Request Form'!$E$3,\"\")","v":""},0,{"$f":"IF(AND('Request Form'!$B$2<>\"\",A9<>\"\"),'Request Form'!$B$2,\"\")","v":""},{"$f":"IF(AND('Request Form'!$B$3<>\"\",A9<>\"\"),'Request Form'!$B$3,\"\")","v":""},"",{"$f":"IF('Request Form'!$B15<>\"\",'Request Form'!$B15,\"\")","v":""},0,0,0,{"$f":"IF('Request Form'!$G15<>\"\",'Request Form'!$G15,\"\")","v":""},0,{"$f":"IF('Request Form'!$I15<>\"\",'Request Form'!$I15,\"\")","v":""},{"$f":"IF('Request Form'!$J15<>\"\",'Request Form'!$J15,\"\")","v":""},{"$f":"IF('Request Form'!$K15<>\"\",'Request Form'!$K15,\"\")","v":""},{"$f":"IF('Request Form'!$L15<>\"\",'Request Form'!$L15,\"\")","v":""},0,0,{"$f":"IF('Request Form'!$O15<>\"\",'Request Form'!$O15,\"\")","v":""},{"$f":"IF('Request Form'!$P15<>\"\",'Request Form'!$P15,\"\")","v":""},{"$f":"IF('Request Form'!$Q15<>\"\",'Request Form'!$Q15,\"\")","v":""}]
[{"$f":"IF('Request Form'!$D16<>\"\",'Request Form'!$D16,\"\")","v":""},{"$f":"IF(AND('Request Form'!$E$2<>\"\",A10<>\"\"),'Request Form'!$E$2,\"\")","v":""},{"$f":"IF(AND('Request Form'!$E$3<>\"\",A10<>\"\"),'Request Form'!$E$3,\"\")","v":""},0,{"$f":"IF(AND('Request Form'!$B$2<>\"\",A10<>\"\"),'Request Form'!$B$2,\"\")","v":""},{"$f":"IF(AND('Request Form'!$B$3<>\"\",A10<>\"\"),'Request Form'!$B$3,\"\")","v":""},"",{"$f":"IF('Request Form'!$B16<>\"\",'Request Form'!$B16,\"\")","v":""},0,0,0,{"$f":"IF('Request Form'!$G16<>\"\",'Request Form'!$G16,\"\")","v":""},0,{"$f":"IF('Request Form'!$I16<>\"\",'Request Form'!$I16,\"\")","v":""},{"$f":"IF('Request Form'!$J16<>\"\",'Request Form'!$J16,\"\")","v":""},{"$f":"IF('Request Form'!$K16<>\"\",'Request Form'!$K16,\"\")","v":""},{"$f":"IF('Request Form'!$L16<>\"\",'Request Form'!$L16,\"\")","v":""},0,0,{"$f":"IF('Request Form'!$O16<>\"\",'Request Form'!$O16,\"\")","v":""},{"$f":"IF('Request Form'!$P16<>\"\",'Request Form'!$P16,\"\")","v":""},{"$f":"IF('Request Form'!$Q16<>\"\",'Request Form'!$Q16,\"\")","v":""}]
[{"$f":"IF('Request Form'!$D17<>\"\",'Request Form'!$D17,\"\")","v":""},{"$f":"IF(AND('Request Form'!$E$2<>\"\",A11<>\"\"),'Request Form'!$E$2,\"\")","v":""},{"$f":"IF(AND('Request Form'!$E$3<>\"\",A11<>\"\"),'Request Form'!$E$3,\"\")","v":""},0,{"$f":"IF(AND('Request Form'!$B$2<>\"\",A11<>\"\"),'Request Form'!$B$2,\"\")","v":""},{"$f":"IF(AND('Request Form'!$B$3<>\"\",A11<>\"\"),'Request Form'!$B$3,\"\")","v":""},"",{"$f":"IF('Request Form'!$B17<>\"\",'Request Form'!$B17,\"\")","v":""},0,0,0,{"$f":"IF('Request Form'!$G17<>\"\",'Request Form'!$G17,\"\")","v":""},0,{"$f":"IF('Request Form'!$I17<>\"\",'Request Form'!$I17,\"\")","v":""},{"$f":"IF('Request Form'!$J17<>\"\",'Request Form'!$J17,\"\")","v":""},{"$f":"IF('Request Form'!$K17<>\"\",'Request Form'!$K17,\"\")","v":""},{"$f":"IF('Request Form'!$L17<>\"\",'Request Form'!$L17,\"\")","v":""},0,0,{"$f":"IF('Request Form'!$O17<>\"\",'Request Form'!$O17,\"\")","v":""},{"$f":"IF('Request Form'!$P17<>\"\",'Request Form'!$P17,\"\")","v":""},{"$f":"IF('Request Form'!$Q17<>\"\",'Request Form'!$Q17,\"\")","v":""}]
[{"$f":"IF('Request Form'!$D18<>\"\",'Request Form'!$D18,\"\")","v":""},{"$f":"IF(AND('Request Form'!$E$2<>\"\",A12<>\"\"),'Request Form'!$E$2,\"\")","v":""},{"$f":"IF(AND('Request Form'!$E$3<>\"\",A12<>\"\"),'Request Form'!$E$3,\"\")","v":""},0,{"$f":"IF(AND('Request Form'!$B$2<>\"\",A12<>\"\"),'Request Form'!$B$2,\"\")","v":""},{"$f":"IF(AND('Request Form'!$B$3<>\"\",A12<>\"\"),'Request Form'!$B$3,\"\")","v":""},"",{"$f":"IF('Request Form'!$B18<>\"\",'Request Form'!$B18,\"\")","v":""},0,0,0,{"$f":"IF('Request Form'!$G18<>\"\",'Request Form'!$G18,\"\")","v":""},0,{"$f":"IF('Request Form'!$I18<>\"\",'Request Form'!$I18,\"\")","v":""},{"$f":"IF('Request Form'!$J18<>\"\",'Request Form'!$J18,\"\")","v":""},{"$f":"IF('Request Form'!$K18<>\"\",'Request Form'!$K18,\"\")","v":""},{"$f":"IF('Request Form'!$L18<>\"\",'Request Form'!$L18,\"\")","v":""},0,0,{"$f":"IF('Request Form'!$O18<>\"\",'Request Form'!$O18,\"\")","v":""},{"$f":"IF('Request Form'!$P18<>\"\",'Request Form'!$P18,\"\")","v":""},{"$f":"IF('Request Form'!$Q18<>\"\",'Request Form'!$Q18,\"\")","v":""}]
[{"$f":"IF('Request Form'!$D19<>\"\",'Request Form'!$D19,\"\")","v":""},{"$f":"IF(AND('Request Form'!$E$2<>\"\",A13<>\"\"),'Request Form'!$E$2,\"\")","v":""},{"$f":"IF(AND('Request Form'!$E$3<>\"\",A13<>\"\"),'Request Form'!$E$3,\"\")","v":""},0,{"$f":"IF(AND('Request Form'!$B$2<>\"\",A13<>\"\"),'Request Form'!$B$2,\"\")","v":""},{"$f":"IF(AND('Request Form'!$B$3<>\"\",A13<>\"\"),'Request Form'!$B$3,\"\")","v":""},"",{"$f":"IF('Request Form'!$B19<>\"\",'Request Form'!$B19,\"\")","v":""},0,0,0,{"$f":"IF('Request Form'!$G19<>\"\",'Request Form'!$G19,\"\")","v":""},0,{"$f":"IF('Request Form'!$I19<>\"\",'Request Form'!$I19,\"\")","v":""},{"$f":"IF('Request Form'!$J19<>\"\",'Request Form'!$J19,\"\")","v":""},{"$f":"IF('Request Form'!$K19<>\"\",'Request Form'!$K19,\"\")","v":""},{"$f":"IF('Request Form'!$L19<>\"\",'Request Form'!$L19,\"\")","v":""},0,0,{"$f":"IF('Request Form'!$O19<>\"\",'Request Form'!$O19,\"\")","v":""},{"$f":"IF('Request Form'!$P19<>\"\",'Request Form'!$P19,\"\")","v":""},{"$f":"IF('Request Form'!$Q19<>\"\",'Request Form'!$Q19,\"\")","v":""}]
[{"$f":"IF('Request Form'!$D20<>\"\",'Request Form'!$D20,\"\")","v":""},{"$f":"IF(AND('Request Form'!$E$2<>\"\",A14<>\"\"),'Request Form'!$E$2,\"\")","v":""},{"$f":"IF(AND('Request Form'!$E$3<>\"\",A14<>\"\"),'Request Form'!$E$3,\"\")","v":""},0,{"$f":"IF(AND('Request Form'!$B$2<>\"\",A14<>\"\"),'Request Form'!$B$2,\"\")","v":""},{"$f":"IF(AND('Request Form'!$B$3<>\"\",A14<>\"\"),'Request Form'!$B$3,\"\")","v":""},"",{"$f":"IF('Request Form'!$B20<>\"\",'Request Form'!$B20,\"\")","v":""},0,0,0,{"$f":"IF('Request Form'!$G20<>\"\",'Request Form'!$G20,\"\")","v":""},0,{"$f":"IF('Request Form'!$I20<>\"\",'Request Form'!$I20,\"\")","v":""},{"$f":"IF('Request Form'!$J20<>\"\",'Request Form'!$J20,\"\")","v":""},{"$f":"IF('Request Form'!$K20<>\"\",'Request Form'!$K20,\"\")","v":""},{"$f":"IF('Request Form'!$L20<>\"\",'Request Form'!$L20,\"\")","v":""},0,0,{"$f":"IF('Request Form'!$O20<>\"\",'Request Form'!$O20,\"\")","v":""},{"$f":"IF('Request Form'!$P20<>\"\",'Request Form'!$P20,\"\")","v":""},{"$f":"IF('Request Form'!$Q20<>\"\",'Request Form'!$Q20,\"\")","v":""}]
[{"$f":"IF('Request Form'!$D21<>\"\",'Request Form'!$D21,\"\")","v":""},{"$f":"IF(AND('Request Form'!$E$2<>\"\",A15<>\"\"),'Request Form'!$E$2,\"\")","v":""},{"$f":"IF(AND('Request Form'!$E$3<>\"\",A15<>\"\"),'Request Form'!$E$3,\"\")","v":""},0,{"$f":"IF(AND('Request Form'!$B$2<>\"\",A15<>\"\"),'Request Form'!$B$2,\"\")","v":""},{"$f":"IF(AND('Request Form'!$B$3<>\"\",A15<>\"\"),'Request Form'!$B$3,\"\")","v":""},"",{"$f":"IF('Request Form'!$B21<>\"\",'Request Form'!$B21,\"\")","v":""},0,0,0,{"$f":"IF('Request Form'!$G21<>\"\",'Request Form'!$G21,\"\")","v":""},0,{"$f":"IF('Request Form'!$I21<>\"\",'Request Form'!$I21,\"\")","v":""},{"$f":"IF('Request Form'!$J21<>\"\",'Request Form'!$J21,\"\")","v":""},{"$f":"IF('Request Form'!$K21<>\"\",'Request Form'!$K21,\"\")","v":""},{"$f":"IF('Request Form'!$L21<>\"\",'Request Form'!$L21,\"\")","v":""},0,0,{"$f":"IF('Request Form'!$O21<>\"\",'Request Form'!$O21,\"\")","v":""},{"$f":"IF('Request Form'!$P21<>\"\",'Request Form'!$P21,\"\")","v":""},{"$f":"IF('Request Form'!$Q21<>\"\",'Request Form'!$Q21,\"\")","v":""}]
[{"$f":"IF('Request Form'!$D22<>\"\",'Request Form'!$D22,\"\")","v":""},{"$f":"IF(AND('Request Form'!$E$2<>\"\",A16<>\"\"),'Request Form'!$E$2,\"\")","v":""},{"$f":"IF(AND('Request Form'!$E$3<>\"\",A16<>\"\"),'Request Form'!$E$3,\"\")","v":""},0,{"$f":"IF(AND('Request Form'!$B$2<>\"\",A16<>\"\"),'Request Form'!$B$2,\"\")","v":""},{"$f":"IF(AND('Request Form'!$B$3<>\"\",A16<>\"\"),'Request Form'!$B$3,\"\")","v":""},"",{"$f":"IF('Request Form'!$B22<>\"\",'Request Form'!$B22,\"\")","v":""},0,0,0,{"$f":"IF('Request Form'!$G22<>\"\",'Request Form'!$G22,\"\")","v":""},0,{"$f":"IF('Request Form'!$I22<>\"\",'Request Form'!$I22,\"\")","v":""},{"$f":"IF('Request Form'!$J22<>\"\",'Request Form'!$J22,\"\")","v":""},{"$f":"IF('Request Form'!$K22<>\"\",'Request Form'!$K22,\"\")","v":""},{"$f":"IF('Request Form'!$L22<>\"\",'Request Form'!$L22,\"\")","v":""},0,0,{"$f":"IF('Request Form'!$O22<>\"\",'Request Form'!$O22,\"\")","v":""},{"$f":"IF('Request Form'!$P22<>\"\",'Request Form'!$P22,\"\")","v":""},{"$f":"IF('Request Form'!$Q22<>\"\",'Request Form'!$Q22,\"\")","v":""}]
[{"$f":"IF('Request Form'!$D23<>\"\",'Request Form'!$D23,\"\")","v":""},{"$f":"IF(AND('Request Form'!$E$2<>\"\",A17<>\"\"),'Request Form'!$E$2,\"\")","v":""},{"$f":"IF(AND('Request Form'!$E$3<>\"\",A17<>\"\"),'Request Form'!$E$3,\"\")","v":""},0,{"$f":"IF(AND('Request Form'!$B$2<>\"\",A17<>\"\"),'Request Form'!$B$2,\"\")","v":""},{"$f":"IF(AND('Request Form'!$B$3<>\"\",A17<>\"\"),'Request Form'!$B$3,\"\")","v":""},"",{"$f":"IF('Request Form'!$B23<>\"\",'Request Form'!$B23,\"\")","v":""},0,0,0,{"$f":"IF('Request Form'!$G23<>\"\",'Request Form'!$G23,\"\")","v":""},0,{"$f":"IF('Request Form'!$I23<>\"\",'Request Form'!$I23,\"\")","v":""},{"$f":"IF('Request Form'!$J23<>\"\",'Request Form'!$J23,\"\")","v":""},{"$f":"IF('Request Form'!$K23<>\"\",'Request Form'!$K23,\"\")","v":""},{"$f":"IF('Request Form'!$L23<>\"\",'Request Form'!$L23,\"\")","v":""},0,0,{"$f":"IF('Request Form'!$O23<>\"\",'Request Form'!$O23,\"\")","v":""},{"$f":"IF('Request Form'!$P23<>\"\",'Request Form'!$P23,\"\")","v":""},{"$f":"IF('Request Form'!$Q23<>\"\",'Request Form'!$Q23,\"\")","v":""}]
[{"$f":"IF('Request Form'!$D24<>\"\",'Request Form'!$D24,\"\")","v":""},{"$f":"IF(AND('Request Form'!$E$2<>\"\",A18<>\"\"),'Request Form'!$E$2,\"\")","v":""},{"$f":"IF(AND('Request Form'!$E$3<>\"\",A18<>\"\"),'Request Form'!$E$3,\"\")","v":""},0,{"$f":"IF(AND('Request Form'!$B$2<>\"\",A18<>\"\"),'Request Form'!$B$2,\"\")","v":""},{"$f":"IF(AND('Request Form'!$B$3<>\"\",A18<>\"\"),'Request Form'!$B$3,\"\")","v":""},"",{"$f":"IF('Request Form'!$B24<>\"\",'Request Form'!$B24,\"\")","v":""},0,0,0,{"$f":"IF('Request Form'!$G24<>\"\",'Request Form'!$G24,\"\")","v":""},0,{"$f":"IF('Request Form'!$I24<>\"\",'Request Form'!$I24,\"\")","v":""},{"$f":"IF('Request Form'!$J24<>\"\",'Request Form'!$J24,\"\")","v":""},{"$f":"IF('Request Form'!$K24<>\"\",'Request Form'!$K24,\"\")","v":""},{"$f":"IF('Request Form'!$L24<>\"\",'Request Form'!$L24,\"\")","v":""},0,0,{"$f":"IF('Request Form'!$O24<>\"\",'Request Form'!$O24,\"\")","v":""},{"$f":"IF('Request Form'!$P24<>\"\",'Request Form'!$P24,\"\")","v":""},{"$f":"IF('Request Form'!$Q24<>\"\",'Request Form'!$Q24,\"\")","v":""}]
[{"$f":"IF('Request Form'!$D25<>\"\",'Request Form'!$D25,\"\")","v":""},{"$f":"IF(AND('Request Form'!$E$2<>\"\",A19<>\"\"),'Request Form'!$E$2,\"\")","v":""},{"$f":"IF(AND('Request Form'!$E$3<>\"\",A19<>\"\"),'Request Form'!$E$3,\"\")","v":""},0,{"$f":"IF(AND('Request Form'!$B$2<>\"\",A19<>\"\"),'Request Form'!$B$2,\"\")","v":""},{"$f":"IF(AND('Request Form'!$B$3<>\"\",A19<>\"\"),'Request Form'!$B$3,\"\")","v":""},"",{"$f":"IF('Request Form'!$B25<>\"\",'Request Form'!$B25,\"\")","v":""},0,0,0,{"$f":"IF('Request Form'!$G25<>\"\",'Request Form'!$G25,\"\")","v":""},0,{"$f":"IF('Request Form'!$I25<>\"\",'Request Form'!$I25,\"\")","v":""},{"$f":"IF('Request Form'!$J25<>\"\",'Request Form'!$J25,\"\")","v":""},{"$f":"IF('Request Form'!$K25<>\"\",'Request Form'!$K25,\"\")","v":""},{"$f":"IF('Request Form'!$L25<>\"\",'Request Form'!$L25,\"\")","v":""},0,0,{"$f":"IF('Request Form'!$O25<>\"\",'Request Form'!$O25,\"\")","v":""},{"$f":"IF('Request Form'!$P25<>\"\",'Request Form'!$P25,\"\")","v":""},{"$f":"IF('Request Form'!$Q25<>\"\",'Request Form'!$Q25,\"\")","v":""}]
[{"$f":"IF('Request Form'!$D26<>\"\",'Request Form'!$D26,\"\")","v":""},{"$f":"IF(AND('Request Form'!$E$2<>\"\",A20<>\"\"),'Request Form'!$E$2,\"\")","v":""},{"$f":"IF(AND('Request Form'!$E$3<>\"\",A20<>\"\"),'Request Form'!$E$3,\"\")","v":""},0,{"$f":"IF(AND('Request Form'!$B$2<>\"\",A20<>\"\"),'Request Form'!$B$2,\"\")","v":""},{"$f":"IF(AND('Request Form'!$B$3<>\"\",A20<>\"\"),'Request Form'!$B$3,\"\")","v":""},"",{"$f":"IF('Request Form'!$B26<>\"\",'Request Form'!$B26,\"\")","v":""},0,0,0,{"$f":"IF('Request Form'!$G26<>\"\",'Request Form'!$G26,\"\")","v":""},0,{"$f":"IF('Request Form'!$I26<>\"\",'Request Form'!$I26,\"\")","v":""},{"$f":"IF('Request Form'!$J26<>\"\",'Request Form'!$J26,\"\")","v":""},{"$f":"IF('Request Form'!$K26<>\"\",'Request Form'!$K26,\"\")","v":""},{"$f":"IF('Request Form'!$L26<>\"\",'Request Form'!$L26,\"\")","v":""},0,0,{"$f":"IF('Request Form'!$O26<>\"\",'Request Form'!$O26,\"\")","v":""},{"$f":"IF('Request Form'!$P26<>\"\",'Request Form'!$P26,\"\")","v":""},{"$f":"IF('Request Form'!$Q26<>\"\",'Request Form'!$Q26,\"\")","v":""}]
[{"$f":"IF('Request Form'!$D27<>\"\",'Request Form'!$D27,\"\")","v":""},{"$f":"IF(AND('Request Form'!$E$2<>\"\",A21<>\"\"),'Request Form'!$E$2,\"\")","v":""},{"$f":"IF(AND('Request Form'!$E$3<>\"\",A21<>\"\"),'Request Form'!$E$3,\"\")","v":""},0,{"$f":"IF(AND('Request Form'!$B$2<>\"\",A21<>\"\"),'Request Form'!$B$2,\"\")","v":""},{"$f":"IF(AND('Request Form'!$B$3<>\"\",A21<>\"\"),'Request Form'!$B$3,\"\")","v":""},"",{"$f":"IF('Request Form'!$B27<>\"\",'Request Form'!$B27,\"\")","v":""},0,0,0,{"$f":"IF('Request Form'!$G27<>\"\",'Request Form'!$G27,\"\")","v":""},0,{"$f":"IF('Request Form'!$I27<>\"\",'Request Form'!$I27,\"\")","v":""},{"$f":"IF('Request Form'!$J27<>\"\",'Request Form'!$J27,\"\")","v":""},{"$f":"IF('Request Form'!$K27<>\"\",'Request Form'!$K27,\"\")","v":""},{"$f":"IF('Request Form'!$L27<>\"\",'Request Form'!$L27,\"\")","v":""},0,0,{"$f":"IF('Request Form'!$O27<>\"\",'Request Form'!$O27,\"\")","v":""},{"$f":"IF('Request Form'!$P27<>\"\",'Request Form'!$P27,\"\")","v":""},{"$f":"IF('Request Form'!$Q27<>\"\",'Request Form'!$Q27,\"\")","v":""}]
[{"$f":"IF('Request Form'!$D28<>\"\",'Request Form'!$D28,\"\")","v":""},{"$f":"IF(AND('Request Form'!$E$2<>\"\",A22<>\"\"),'Request Form'!$E$2,\"\")","v":""},{"$f":"IF(AND('Request Form'!$E$3<>\"\",A22<>\"\"),'Request Form'!$E$3,\"\")","v":""},0,{"$f":"IF(AND('Request Form'!$B$2<>\"\",A22<>\"\"),'Request Form'!$B$2,\"\")","v":""},{"$f":"IF(AND('Request Form'!$B$3<>\"\",A22<>\"\"),'Request Form'!$B$3,\"\")","v":""},"",{"$f":"IF('Request Form'!$B28<>\"\",'Request Form'!$B28,\"\")","v":""},0,0,0,{"$f":"IF('Request Form'!$G28<>\"\",'Request Form'!$G28,\"\")","v":""},0,{"$f":"IF('Request Form'!$I28<>\"\",'Request Form'!$I28,\"\")","v":""},{"$f":"IF('Request Form'!$J28<>\"\",'Request Form'!$J28,\"\")","v":""},{"$f":"IF('Request Form'!$K28<>\"\",'Request Form'!$K28,\"\")","v":""},{"$f":"IF('Request Form'!$L28<>\"\",'Request Form'!$L28,\"\")","v":""},0,0,{"$f":"IF('Request Form'!$O28<>\"\",'Request Form'!$O28,\"\")","v":""},{"$f":"IF('Request Form'!$P28<>\"\",'Request Form'!$P28,\"\")","v":""},{"$f":"IF('Request Form'!$Q28<>\"\",'Request Form'!$Q28,\"\")","v":""}]
[{"$f":"IF('Request Form'!$D29<>\"\",'Request Form'!$D29,\"\")","v":""},{"$f":"IF(AND('Request Form'!$E$2<>\"\",A23<>\"\"),'Request Form'!$E$2,\"\")","v":""},{"$f":"IF(AND('Request Form'!$E$3<>\"\",A23<>\"\"),'Request Form'!$E$3,\"\")","v":""},0,{"$f":"IF(AND('Request Form'!$B$2<>\"\",A23<>\"\"),'Request Form'!$B$2,\"\")","v":""},{"$f":"IF(AND('Request Form'!$B$3<>\"\",A23<>\"\"),'Request Form'!$B$3,\"\")","v":""},"",{"$f":"IF('Request Form'!$B29<>\"\",'Request Form'!$B29,\"\")","v":""},0,0,0,{"$f":"IF('Request Form'!$G29<>\"\",'Request Form'!$G29,\"\")","v":""},0,{"$f":"IF('Request Form'!$I29<>\"\",'Request Form'!$I29,\"\")","v":""},{"$f":"IF('Request Form'!$J29<>\"\",'Request Form'!$J29,\"\")","v":""},{"$f":"IF('Request Form'!$K29<>\"\",'Request Form'!$K29,\"\")","v":""},{"$f":"IF('Request Form'!$L29<>\"\",'Request Form'!$L29,\"\")","v":""},0,0,{"$f":"IF('Request Form'!$O29<>\"\",'Request Form'!$O29,\"\")","v":""},{"$f":"IF('Request Form'!$P29<>\"\",'Request Form'!$P29,\"\")","v":""},{"$f":"IF('Request Form'!$Q29<>\"\",'Request Form'!$Q29,\"\")","v":""}]
[{"$f":"IF('Request Form'!$D30<>\"\",'Request Form'!$D30,\"\")","v":""},{"$f":"IF(AND('Request Form'!$E$2<>\"\",A24<>\"\"),'Request Form'!$E$2,\"\")","v":""},{"$f":"IF(AND('Request Form'!$E$3<>\"\",A24<>\"\"),'Request Form'!$E$3,\"\")","v":""},0,{"$f":"IF(AND('Request Form'!$B$2<>\"\",A24<>\"\"),'Request Form'!$B$2,\"\")","v":""},{"$f":"IF(AND('Request Form'!$B$3<>\"\",A24<>\"\"),'Request Form'!$B$3,\"\")","v":""},"",{"$f":"IF('Request Form'!$B30<>\"\",'Request Form'!$B30,\"\")","v":""},0,0,0,{"$f":"IF('Request Form'!$G30<>\"\",'Request Form'!$G30,\"\")","v":""},0,{"$f":"IF('Request Form'!$I30<>\"\",'Request Form'!$I30,\"\")","v":""},{"$f":"IF('Request Form'!$J30<>\"\",'Request Form'!$J30,\"\")","v":""},{"$f":"IF('Request Form'!$K30<>\"\",'Request Form'!$K30,\"\")","v":""},{"$f":"IF('Request Form'!$L30<>\"\",'Request Form'!$L30,\"\")","v":""},0,0,{"$f":"IF('Request Form'!$O30<>\"\",'Request Form'!$O30,\"\")","v":""},{"$f":"IF('Request Form'!$P30<>\"\",'Request Form'!$P30,\"\")","v":""},{"$f":"IF('Request Form'!$Q30<>\"\",'Request Form'!$Q30,\"\")","v":""}]
[{"$f":"IF('Request Form'!$D31<>\"\",'Request Form'!$D31,\"\")","v":""},{"$f":"IF(AND('Request Form'!$E$2<>\"\",A25<>\"\"),'Request Form'!$E$2,\"\")","v":""},{"$f":"IF(AND('Request Form'!$E$3<>\"\",A25<>\"\"),'Request Form'!$E$3,\"\")","v":""},0,{"$f":"IF(AND('Request Form'!$B$2<>\"\",A25<>\"\"),'Request Form'!$B$2,\"\")","v":""},{"$f":"IF(AND('Request Form'!$B$3<>\"\",A25<>\"\"),'Request Form'!$B$3,\"\")","v":""},"",{"$f":"IF('Request Form'!$B31<>\"\",'Request Form'!$B31,\"\")","v":""},0,0,0,{"$f":"IF('Request Form'!$G31<>\"\",'Request Form'!$G31,\"\")","v":""},0,{"$f":"IF('Request Form'!$I31<>\"\",'Request Form'!$I31,\"\")","v":""},{"$f":"IF('Request Form'!$J31<>\"\",'Request Form'!$J31,\"\")","v":""},{"$f":"IF('Request Form'!$K31<>\"\",'Request Form'!$K31,\"\")","v":""},{"$f":"IF('Request Form'!$L31<>\"\",'Request Form'!$L31,\"\")","v":""},0,0,{"$f":"IF('Request Form'!$O31<>\"\",'Request Form'!$O31,\"\")","v":""},{"$f":"IF('Request Form'!$P31<>\"\",'Request Form'!$P31,\"\")","v":""},{"$f":"IF('Request Form'!$Q31<>\"\",'Request Form'!$Q31,\"\")","v":""}]
[{"$f":"IF('Request Form'!$D32<>\"\",'Request Form'!$D32,\"\")","v":""},{"$f":"IF(AND('Request Form'!$E$2<>\"\",A26<>\"\"),'Request Form'!$E$2,\"\")","v":""},{"$f":"IF(AND('Request Form'!$E$3<>\"\",A26<>\"\"),'Request Form'!$E$3,\"\")","v":""},0,{"$f":"IF(AND('Request Form'!$B$2<>\"\",A26<>\"\"),'Request Form'!$B$2,\"\")","v":""},{"$f":"IF(AND('Request Form'!$B$3<>\"\",A26<>\"\"),'Request Form'!$B$3,\"\")","v":""},"",{"$f":"IF('Request Form'!$B32<>\"\",'Request Form'!$B32,\"\")","v":""},0,0,0,{"$f":"IF('Request Form'!$G32<>\"\",'Request Form'!$G32,\"\")","v":""},0,{"$f":"IF('Request Form'!$I32<>\"\",'Request Form'!$I32,\"\")","v":""},{"$f":"IF('Request Form'!$J32<>\"\",'Request Form'!$J32,\"\")","v":""},{"$f":"IF('Request Form'!$K32<>\"\",'Request Form'!$K32,\"\")","v":""},{"$f":"IF('Request Form'!$L32<>\"\",'Request Form'!$L32,\"\")","v":""},0,0,{"$f":"IF('Request Form'!$O32<>\"\",'Request Form'!$O32,\"\")","v":""},{"$f":"IF('Request Form'!$P32<>\"\",'Request Form'!$P32,\"\")","v":""},{"$f":"IF('Request Form'!$Q32<>\"\",'Request Form'!$Q32,\"\")","v":""}]
[{"$f":"IF('Request Form'!$D33<>\"\",'Request Form'!$D33,\"\")","v":""},{"$f":"IF(AND('Request Form'!$E$2<>\"\",A27<>\"\"),'Request Form'!$E$2,\"\")","v":""},{"$f":"IF(AND('Request Form'!$E$3<>\"\",A27<>\"\"),'Request Form'!$E$3,\"\")","v":""},0,{"$f":"IF(AND('Request Form'!$B$2<>\"\",A27<>\"\"),'Request Form'!$B$2,\"\")","v":""},{"$f":"IF(AND('Request Form'!$B$3<>\"\",A27<>\"\"),'Request Form'!$B$3,\"\")","v":""},"",{"$f":"IF('Request Form'!$B33<>\"\",'Request Form'!$B33,\"\")","v":""},0,0,0,{"$f":"IF('Request Form'!$G33<>\"\",'Request Form'!$G33,\"\")","v":""},0,{"$f":"IF('Request Form'!$I33<>\"\",'Request Form'!$I33,\"\")","v":""},{"$f":"IF('Request Form'!$J33<>\"\",'Request Form'!$J33,\"\")","v":""},{"$f":"IF('Request Form'!$K33<>\"\",'Request Form'!$K33,\"\")","v":""},{"$f":"IF('Request Form'!$L33<>\"\",'Request Form'!$L33,\"\")","v":""},0,0,{"$f":"IF('Request Form'!$O33<>\"\",'Request Form'!$O33,\"\")","v":""},{"$f":"IF('Request Form'!$P33<>\"\",'Request Form'!$P33,\"\")","v":""},{"$f":"IF('Request Form'!$Q33<>\"\",'Request Form'!$Q33,\"\")","v":""}]
[{"$f":"IF('Request Form'!$D34<>\"\",'Request Form'!$D34,\"\")","v":""},{"$f":"IF(AND('Request Form'!$E$2<>\"\",A28<>\"\"),'Request Form'!$E$2,\"\")","v":""},{"$f":"IF(AND('Request Form'!$E$3<>\"\",A28<>\"\"),'Request Form'!$E$3,\"\")","v":""},0,{"$f":"IF(AND('Request Form'!$B$2<>\"\",A28<>\"\"),'Request Form'!$B$2,\"\")","v":""},{"$f":"IF(AND('Request Form'!$B$3<>\"\",A28<>\"\"),'Request Form'!$B$3,\"\")","v":""},"",{"$f":"IF('Request Form'!$B34<>\"\",'Request Form'!$B34,\"\")","v":""},0,0,0,{"$f":"IF('Request Form'!$G34<>\"\",'Request Form'!$G34,\"\")","v":""},0,{"$f":"IF('Request Form'!$I34<>\"\",'Request Form'!$I34,\"\")","v":""},{"$f":"IF('Request Form'!$J34<>\"\",'Request Form'!$J34,\"\")","v":""},{"$f":"IF('Request Form'!$K34<>\"\",'Request Form'!$K34,\"\")","v":""},{"$f":"IF('Request Form'!$L34<>\"\",'Request Form'!$L34,\"\")","v":""},0,0,{"$f":"IF('Request Form'!$O34<>\"\",'Request Form'!$O34,\"\")","v":""},{"$f":"IF('Request Form'!$P34<>\"\",'Request Form'!$P34,\"\")","v":""},{"$f":"IF('Request Form'!$Q34<>\"\",'Request Form'!$Q34,\"\")","v":""}]
[{"$f":"IF('Request Form'!$D35<>\"\",'Request Form'!$D35,\"\")","v":""},{"$f":"IF(AND('Request Form'!$E$2<>\"\",A29<>\"\"),'Request Form'!$E$2,\"\")","v":""},{"$f":"IF(AND('Request Form'!$E$3<>\"\",A29<>\"\"),'Request Form'!$E$3,\"\")","v":""},0,{"$f":"IF(AND('Request Form'!$B$2<>\"\",A29<>\"\"),'Request Form'!$B$2,\"\")","v":""},{"$f":"IF(AND('Request Form'!$B$3<>\"\",A29<>\"\"),'Request Form'!$B$3,\"\")","v":""},"",{"$f":"IF('Request Form'!$B35<>\"\",'Request Form'!$B35,\"\")","v":""},0,0,0,{"$f":"IF('Request Form'!$G35<>\"\",'Request Form'!$G35,\"\")","v":""},0,{"$f":"IF('Request Form'!$I35<>\"\",'Request Form'!$I35,\"\")","v":""},{"$f":"IF('Request Form'!$J35<>\"\",'Request Form'!$J35,\"\")","v":""},{"$f":"IF('Request Form'!$K35<>\"\",'Request Form'!$K35,\"\")","v":""},{"$f":"IF('Request Form'!$L35<>\"\",'Request Form'!$L35,\"\")","v":""},0,0,{"$f":"IF('Request Form'!$O35<>\"\",'Request Form'!$O35,\"\")","v":""},{"$f":"IF('Request Form'!$P35<>\"\",'Request Form'!$P35,\"\")","v":""},{"$f":"IF('Request Form'!$Q35<>\"\",'Request Form'!$Q35,\"\")","v":""}]
[{"$f":"IF('Request Form'!$D36<>\"\",'Request Form'!$D36,\"\")","v":""},{"$f":"IF(AND('Request Form'!$E$2<>\"\",A30<>\"\"),'Request Form'!$E$2,\"\")","v":""},{"$f":"IF(AND('Request Form'!$E$3<>\"\",A30<>\"\"),'Request Form'!$E$3,\"\")","v":""},0,{"$f":"IF(AND('Request Form'!$B$2<>\"\",A30<>\"\"),'Request Form'!$B$2,\"\")","v":""},{"$f":"IF(AND('Request Form'!$B$3<>\"\",A30<>\"\"),'Request Form'!$B$3,\"\")","v":""},"",{"$f":"IF('Request Form'!$B36<>\"\",'Request Form'!$B36,\"\")","v":""},0,0,0,{"$f":"IF('Request Form'!$G36<>\"\",'Request Form'!$G36,\"\")","v":""},0,{"$f":"IF('Request Form'!$I36<>\"\",'Request Form'!$I36,\"\")","v":""},{"$f":"IF('Request Form'!$J36<>\"\",'Request Form'!$J36,\"\")","v":""},{"$f":"IF('Request Form'!$K36<>\"\",'Request Form'!$K36,\"\")","v":""},{"$f":"IF('Request Form'!$L36<>\"\",'Request Form'!$L36,\"\")","v":""},0,0,{"$f":"IF('Request Form'!$O36<>\"\",'Request Form'!$O36,\"\")","v":""},{"$f":"IF('Request Form'!$P36<>\"\",'Request Form'!$P36,\"\")","v":""},{"$f":"IF('Request Form'!$Q36<>\"\",'Request Form'!$Q36,\"\")","v":""}]
[{"$f":"IF('Request Form'!$D37<>\"\",'Request Form'!$D37,\"\")","v":""},{"$f":"IF(AND('Request Form'!$E$2<>\"\",A31<>\"\"),'Request Form'!$E$2,\"\")","v":""},{"$f":"IF(AND('Request Form'!$E$3<>\"\",A31<>\"\"),'Request Form'!$E$3,\"\")","v":""},0,{"$f":"IF(AND('Request Form'!$B$2<>\"\",A31<>\"\"),'Request Form'!$B$2,\"\")","v":""},{"$f":"IF(AND('Request Form'!$B$3<>\"\",A31<>\"\"),'Request Form'!$B$3,\"\")","v":""},"",{"$f":"IF('Request Form'!$B37<>\"\",'Request Form'!$B37,\"\")","v":""},0,0,0,{"$f":"IF('Request Form'!$G37<>\"\",'Request Form'!$G37,\"\")","v":""},0,{"$f":"IF('Request Form'!$I37<>\"\",'Request Form'!$I37,\"\")","v":""},{"$f":"IF('Request Form'!$J37<>\"\",'Request Form'!$J37,\"\")","v":""},{"$f":"IF('Request Form'!$K37<>\"\",'Request Form'!$K37,\"\")","v":""},{"$f":"IF('Request Form'!$L37<>\"\",'Request Form'!$L37,\"\")","v":""},0,0,{"$f":"IF('Request Form'!$O37<>\"\",'Request Form'!$O37,\"\")","v":""},{"$f":"IF('Request Form'!$P37<>\"\",'Request Form'!$P37,\"\")","v":""},{"$f":"IF('Request Form'!$Q37<>\"\",'Request Form'!$Q37,\"\")","v":""}]
[{"$f":"IF('Request Form'!$D38<>\"\",'Request Form'!$D38,\"\")","v":""},{"$f":"IF(AND('Request Form'!$E$2<>\"\",A32<>\"\"),'Request Form'!$E$2,\"\")","v":""},{"$f":"IF(AND('Request Form'!$E$3<>\"\",A32<>\"\"),'Request Form'!$E$3,\"\")","v":""},0,{"$f":"IF(AND('Request Form'!$B$2<>\"\",A32<>\"\"),'Request Form'!$B$2,\"\")","v":""},{"$f":"IF(AND('Request Form'!$B$3<>\"\",A32<>\"\"),'Request Form'!$B$3,\"\")","v":""},"",{"$f":"IF('Request Form'!$B38<>\"\",'Request Form'!$B38,\"\")","v":""},0,0,0,{"$f":"IF('Request Form'!$G38<>\"\",'Request Form'!$G38,\"\")","v":""},0,{"$f":"IF('Request Form'!$I38<>\"\",'Request Form'!$I38,\"\")","v":""},{"$f":"IF('Request Form'!$J38<>\"\",'Request Form'!$J38,\"\")","v":""},{"$f":"IF('Request Form'!$K38<>\"\",'Request Form'!$K38,\"\")","v":""},{"$f":"IF('Request Form'!$L38<>\"\",'Request Form'!$L38,\"\")","v":""},0,0,{"$f":"IF('Request Form'!$O38<>\"\",'Request Form'!$O38,\"\")","v":""},{"$f":"IF('Request Form'!$P38<>\"\",'Request Form'!$P38,\"\")","v":""},{"$f":"IF('Request Form'!$Q38<>\"\",'Request Form'!$Q38,\"\")","v":""}]
[{"$f":"IF('Request Form'!$D39<>\"\",'Request Form'!$D39,\"\")","v":""},{"$f":"IF(AND('Request Form'!$E$2<>\"\",A33<>\"\"),'Request Form'!$E$2,\"\")","v":""},{"$f":"IF(AND('Request Form'!$E$3<>\"\",A33<>\"\"),'Request Form'!$E$3,\"\")","v":""},0,{"$f":"IF(AND('Request Form'!$B$2<>\"\",A33<>\"\"),'Request Form'!$B$2,\"\")","v":""},{"$f":"IF(AND('Request Form'!$B$3<>\"\",A33<>\"\"),'Request Form'!$B$3,\"\")","v":""},"",{"$f":"IF('Request Form'!$B39<>\"\",'Request Form'!$B39,\"\")","v":""},0,0,0,{"$f":"IF('Request Form'!$G39<>\"\",'Request Form'!$G39,\"\")","v":""},0,{"$f":"IF('Request Form'!$I39<>\"\",'Request Form'!$I39,\"\")","v":""},{"$f":"IF('Request Form'!$J39<>\"\",'Request Form'!$J39,\"\")","v":""},{"$f":"IF('Request Form'!$K39<>\"\",'Request Form'!$K39,\"\")","v":""},{"$f":"IF('Request Form'!$L39<>\"\",'Request Form'!$L39,\"\")","v":""},0,0,{"$f":"IF('Request Form'!$O39<>\"\",'Request Form'!$O39,\"\")","v":""},{"$f":"IF('Request Form'!$P39<>\"\",'Request Form'!$P39,\"\")","v":""},{"$f":"IF('Request Form'!$Q39<>\"\",'Request Form'!$Q39,\"\")","v":""}]
[{"$f":"IF('Request Form'!$D40<>\"\",'Request Form'!$D40,\"\")","v":""},{"$f":"IF(AND('Request Form'!$E$2<>\"\",A34<>\"\"),'Request Form'!$E$2,\"\")","v":""},{"$f":"IF(AND('Request Form'!$E$3<>\"\",A34<>\"\"),'Request Form'!$E$3,\"\")","v":""},0,{"$f":"IF(AND('Request Form'!$B$2<>\"\",A34<>\"\"),'Request Form'!$B$2,\"\")","v":""},{"$f":"IF(AND('Request Form'!$B$3<>\"\",A34<>\"\"),'Request Form'!$B$3,\"\")","v":""},"",{"$f":"IF('Request Form'!$B40<>\"\",'Request Form'!$B40,\"\")","v":""},0,0,0,{"$f":"IF('Request Form'!$G40<>\"\",'Request Form'!$G40,\"\")","v":""},0,{"$f":"IF('Request Form'!$I40<>\"\",'Request Form'!$I40,\"\")","v":""},{"$f":"IF('Request Form'!$J40<>\"\",'Request Form'!$J40,\"\")","v":""},{"$f":"IF('Request Form'!$K40<>\"\",'Request Form'!$K40,\"\")","v":""},{"$f":"IF('Request Form'!$L40<>\"\",'Request Form'!$L40,\"\")","v":""},0,0,{"$f":"IF('Request Form'!$O40<>\"\",'Request Form'!$O40,\"\")","v":""},{"$f":"IF('Request Form'!$P40<>\"\",'Request Form'!$P40,\"\")","v":""},{"$f":"IF('Request Form'!$Q40<>\"\",'Request Form'!$Q40,\"\")","v":""}]
[{"$f":"IF('Request Form'!$D41<>\"\",'Request Form'!$D41,\"\")","v":""},{"$f":"IF(AND('Request Form'!$E$2<>\"\",A35<>\"\"),'Request Form'!$E$2,\"\")","v":""},{"$f":"IF(AND('Request Form'!$E$3<>\"\",A35<>\"\"),'Request Form'!$E$3,\"\")","v":""},0,{"$f":"IF(AND('Request Form'!$B$2<>\"\",A35<>\"\"),'Request Form'!$B$2,\"\")","v":""},{"$f":"IF(AND('Request Form'!$B$3<>\"\",A35<>\"\"),'Request Form'!$B$3,\"\")","v":""},"",{"$f":"IF('Request Form'!$B41<>\"\",'Request Form'!$B41,\"\")","v":""},0,0,0,{"$f":"IF('Request Form'!$G41<>\"\",'Request Form'!$G41,\"\")","v":""},0,{"$f":"IF('Request Form'!$I41<>\"\",'Request Form'!$I41,\"\")","v":""},{"$f":"IF('Request Form'!$J41<>\"\",'Request Form'!$J41,\"\")","v":""},{"$f":"IF('Request Form'!$K41<>\"\",'Request Form'!$K41,\"\")","v":""},{"$f":"IF('Request Form'!$L41<>\"\",'Request Form'!$L41,\"\")","v":""},0,0,{"$f":"IF('Request Form'!$O41<>\"\",'Request Form'!$O41,\"\")","v":""},{"$f":"IF('Request Form'!$P41<>\"\",'Request Form'!$P41,\"\")","v":""},{"$f":"IF('Request Form'!$Q41<>\"\",'Request Form'!$Q41,\"\")","v":""}]
[{"$f":"IF('Request Form'!$D42<>\"\",'Request Form'!$D42,\"\")","v":""},{"$f":"IF(AND('Request Form'!$E$2<>\"\",A36<>\"\"),'Request Form'!$E$2,\"\")","v":""},{"$f":"IF(AND('Request Form'!$E$3<>\"\",A36<>\"\"),'Request Form'!$E$3,\"\")","v":""},0,{"$f":"IF(AND('Request Form'!$B$2<>\"\",A36<>\"\"),'Request Form'!$B$2,\"\")","v":""},{"$f":"IF(AND('Request Form'!$B$3<>\"\",A36<>\"\"),'Request Form'!$B$3,\"\")","v":""},"",{"$f":"IF('Request Form'!$B42<>\"\",'Request Form'!$B42,\"\")","v":""},0,0,0,{"$f":"IF('Request Form'!$G42<>\"\",'Request Form'!$G42,\"\")","v":""},0,{"$f":"IF('Request Form'!$I42<>\"\",'Request Form'!$I42,\"\")","v":""},{"$f":"IF('Request Form'!$J42<>\"\",'Request Form'!$J42,\"\")","v":""},{"$f":"IF('Request Form'!$K42<>\"\",'Request Form'!$K42,\"\")","v":""},{"$f":"IF('Request Form'!$L42<>\"\",'Request Form'!$L42,\"\")","v":""},0,0,{"$f":"IF('Request Form'!$O42<>\"\",'Request Form'!$O42,\"\")","v":""},{"$f":"IF('Request Form'!$P42<>\"\",'Request Form'!$P42,\"\")","v":""},{"$f":"IF('Request Form'!$Q42<>\"\",'Request Form'!$Q42,\"\")","v":""}]
[{"$f":"IF('Request Form'!$D43<>\"\",'Request Form'!$D43,\"\")","v":""},{"$f":"IF(AND('Request Form'!$E$2<>\"\",A37<>\"\"),'Request Form'!$E$2,\"\")","v":""},{"$f":"IF(AND('Request Form'!$E$3<>\"\",A37<>\"\"),'Request Form'!$E$3,\"\")","v":""},0,{"$f":"IF(AND('Request Form'!$B$2<>\"\",A37<>\"\"),'Request Form'!$B$2,\"\")","v":""},{"$f":"IF(AND('Request Form'!$B$3<>\"\",A37<>\"\"),'Request Form'!$B$3,\"\")","v":""},"",{"$f":"IF('Request Form'!$B43<>\"\",'Request Form'!$B43,\"\")","v":""},0,0,0,{"$f":"IF('Request Form'!$G43<>\"\",'Request Form'!$G43,\"\")","v":""},0,{"$f":"IF('Request Form'!$I43<>\"\",'Request Form'!$I43,\"\")","v":""},{"$f":"IF('Request Form'!$J43<>\"\",'Request Form'!$J43,\"\")","v":""},{"$f":"IF('Request Form'!$K43<>\"\",'Request Form'!$K43,\"\")","v":""},{"$f":"IF('Request Form'!$L43<>\"\",'Request Form'!$L43,\"\")","v":""},0,0,{"$f":"IF('Request Form'!$O43<>\"\",'Request Form'!$O43,\"\")","v":""},{"$f":"IF('Request Form'!$P43<>\"\",'Request Form'!$P43,\"\")","v":""},{"$f":"IF('Request Form'!$Q43<>\"\",'Request Form'!$Q43,\"\")","v":""}]
[{"$f":"IF('Request Form'!$D44<>\"\",'Request Form'!$D44,\"\")","v":""},{"$f":"IF(AND('Request Form'!$E$2<>\"\",A38<>\"\"),'Request Form'!$E$2,\"\")","v":""},{"$f":"IF(AND('Request Form'!$E$3<>\"\",A38<>\"\"),'Request Form'!$E$3,\"\")","v":""},0,{"$f":"IF(AND('Request Form'!$B$2<>\"\",A38<>\"\"),'Request Form'!$B$2,\"\")","v":""},{"$f":"IF(AND('Request Form'!$B$3<>\"\",A38<>\"\"),'Request Form'!$B$3,\"\")","v":""},"",{"$f":"IF('Request Form'!$B44<>\"\",'Request Form'!$B44,\"\")","v":""},0,0,0,{"$f":"IF('Request Form'!$G44<>\"\",'Request Form'!$G44,\"\")","v":""},0,{"$f":"IF('Request Form'!$I44<>\"\",'Request Form'!$I44,\"\")","v":""},{"$f":"IF('Request Form'!$J44<>\"\",'Request Form'!$J44,\"\")","v":""},{"$f":"IF('Request Form'!$K44<>\"\",'Request Form'!$K44,\"\")","v":""},{"$f":"IF('Request Form'!$L44<>\"\",'Request Form'!$L44,\"\")","v":""},0,0,{"$f":"IF('Request Form'!$O44<>\"\",'Request Form'!$O44,\"\")","v":""},{"$f":"IF('Request Form'!$P44<>\"\",'Request Form'!$P44,\"\")","v":""},{"$f":"IF('Request Form'!$Q44<>\"\",'Request Form'!$Q44,\"\")","v":""}]
[{"$f":"IF('Request Form'!$D45<>\"\",'Request Form'!$D45,\"\")","v":""},{"$f":"IF(AND('Request Form'!$E$2<>\"\",A39<>\"\"),'Request Form'!$E$2,\"\")","v":""},{"$f":"IF(AND('Request Form'!$E$3<>\"\",A39<>\"\"),'Request Form'!$E$3,\"\")","v":""},0,{"$f":"IF(AND('Request Form'!$B$2<>\"\",A39<>\"\"),'Request Form'!$B$2,\"\")","v":""},{"$f":"IF(AND('Request Form'!$B$3<>\"\",A39<>\"\"),'Request Form'!$B$3,\"\")","v":""},"",{"$f":"IF('Request Form'!$B45<>\"\",'Request Form'!$B45,\"\")","v":""},0,0,0,{"$f":"IF('Request Form'!$G45<>\"\",'Request Form'!$G45,\"\")","v":""},0,{"$f":"IF('Request Form'!$I45<>\"\",'Request Form'!$I45,\"\")","v":""},{"$f":"IF('Request Form'!$J45<>\"\",'Request Form'!$J45,\"\")","v":""},{"$f":"IF('Request Form'!$K45<>\"\",'Request Form'!$K45,\"\")","v":""},{"$f":"IF('Request Form'!$L45<>\"\",'Request Form'!$L45,\"\")","v":""},0,0,{"$f":"IF('Request Form'!$O45<>\"\",'Request Form'!$O45,\"\")","v":""},{"$f":"IF('Request Form'!$P45<>\"\",'Request Form'!$P45,\"\")","v":""},{"$f":"IF('Request Form'!$Q45<>\"\",'Request Form'!$Q45,\"\")","v":""}]
[{"$f":"IF('Request Form'!$D46<>\"\",'Request Form'!$D46,\"\")","v":""},{"$f":"IF(AND('Request Form'!$E$2<>\"\",A40<>\"\"),'Request Form'!$E$2,\"\")","v":""},{"$f":"IF(AND('Request Form'!$E$3<>\"\",A40<>\"\"),'Request Form'!$E$3,\"\")","v":""},0,{"$f":"IF(AND('Request Form'!$B$2<>\"\",A40<>\"\"),'Request Form'!$B$2,\"\")","v":""},{"$f":"IF(AND('Request Form'!$B$3<>\"\",A40<>\"\"),'Request Form'!$B$3,\"\")","v":""},"",{"$f":"IF('Request Form'!$B46<>\"\",'Request Form'!$B46,\"\")","v":""},0,0,0,{"$f":"IF('Request Form'!$G46<>\"\",'Request Form'!$G46,\"\")","v":""},0,{"$f":"IF('Request Form'!$I46<>\"\",'Request Form'!$I46,\"\")","v":""},{"$f":"IF('Request Form'!$J46<>\"\",'Request Form'!$J46,\"\")","v":""},{"$f":"IF('Request Form'!$K46<>\"\",'Request Form'!$K46,\"\")","v":""},{"$f":"IF('Request Form'!$L46<>\"\",'Request Form'!$L46,\"\")","v":""},0,0,{"$f":"IF('Request Form'!$O46<>\"\",'Request Form'!$O46,\"\")","v":""},{"$f":"IF('Request Form'!$P46<>\"\",'Request Form'!$P46,\"\")","v":""},{"$f":"IF('Request Form'!$Q46<>\"\",'Request Form'!$Q46,\"\")","v":""}]
[{"$f":"IF('Request Form'!$D47<>\"\",'Request Form'!$D47,\"\")","v":""},{"$f":"IF(AND('Request Form'!$E$2<>\"\",A41<>\"\"),'Request Form'!$E$2,\"\")","v":""},{"$f":"IF(AND('Request Form'!$E$3<>\"\",A41<>\"\"),'Request Form'!$E$3,\"\")","v":""},0,{"$f":"IF(AND('Request Form'!$B$2<>\"\",A41<>\"\"),'Request Form'!$B$2,\"\")","v":""},{"$f":"IF(AND('Request Form'!$B$3<>\"\",A41<>\"\"),'Request Form'!$B$3,\"\")","v":""},"",{"$f":"IF('Request Form'!$B47<>\"\",'Request Form'!$B47,\"\")","v":""},0,0,0,{"$f":"IF('Request Form'!$G47<>\"\",'Request Form'!$G47,\"\")","v":""},0,{"$f":"IF('Request Form'!$I47<>\"\",'Request Form'!$I47,\"\")","v":""},{"$f":"IF('Request Form'!$J47<>\"\",'Request Form'!$J47,\"\")","v":""},{"$f":"IF('Request Form'!$K47<>\"\",'Request Form'!$K47,\"\")","v":""},{"$f":"IF('Request Form'!$L47<>\"\",'Request Form'!$L47,\"\")","v":""},0,0,{"$f":"IF('Request Form'!$O47<>\"\",'Request Form'!$O47,\"\")","v":""},{"$f":"IF('Request Form'!$P47<>\"\",'Request Form'!$P47,\"\")","v":""},{"$f":"IF('Request Form'!$Q47<>\"\",'Request Form'!$Q47,\"\")","v":""}]
[{"$f":"IF('Request Form'!$D48<>\"\",'Request Form'!$D48,\"\")","v":""},{"$f":"IF(AND('Request Form'!$E$2<>\"\",A42<>\"\"),'Request Form'!$E$2,\"\")","v":""},{"$f":"IF(AND('Request Form'!$E$3<>\"\",A42<>\"\"),'Request Form'!$E$3,\"\")","v":""},0,{"$f":"IF(AND('Request Form'!$B$2<>\"\",A42<>\"\"),'Request Form'!$B$2,\"\")","v":""},{"$f":"IF(AND('Request Form'!$B$3<>\"\",A42<>\"\"),'Request Form'!$B$3,\"\")","v":""},"",{"$f":"IF('Request Form'!$B48<>\"\",'Request Form'!$B48,\"\")","v":""},0,0,0,{"$f":"IF('Request Form'!$G48<>\"\",'Request Form'!$G48,\"\")","v":""},0,{"$f":"IF('Request Form'!$I48<>\"\",'Request Form'!$I48,\"\")","v":""},{"$f":"IF('Request Form'!$J48<>\"\",'Request Form'!$J48,\"\")","v":""},{"$f":"IF('Request Form'!$K48<>\"\",'Request Form'!$K48,\"\")","v":""},{"$f":"IF('Request Form'!$L48<>\"\",'Request Form'!$L48,\"\")","v":""},0,0,{"$f":"IF('Request Form'!$O48<>\"\",'Request Form'!$O48,\"\")","v":""},{"$f":"IF('Request Form'!$P48<>\"\",'Request Form'!$P48,\"\")","v":""},{"$f":"IF('Request Form'!$Q48<>\"\",'Request Form'!$Q48,\"\")","v":""}]
[{"$f":"IF('Request Form'!$D49<>\"\",'Request Form'!$D49,\"\")","v":""},{"$f":"IF(AND('Request Form'!$E$2<>\"\",A43<>\"\"),'Request Form'!$E$2,\"\")","v":""},{"$f":"IF(AND('Request Form'!$E$3<>\"\",A43<>\"\"),'Request Form'!$E$3,\"\")","v":""},0,{"$f":"IF(AND('Request Form'!$B$2<>\"\",A43<>\"\"),'Request Form'!$B$2,\"\")","v":""},{"$f":"IF(AND('Request Form'!$B$3<>\"\",A43<>\"\"),'Request Form'!$B$3,\"\")","v":""},"",{"$f":"IF('Request Form'!$B49<>\"\",'Request Form'!$B49,\"\")","v":""},0,0,0,{"$f":"IF('Request Form'!$G49<>\"\",'Request Form'!$G49,\"\")","v":""},0,{"$f":"IF('Request Form'!$I49<>\"\",'Request Form'!$I49,\"\")","v":""},{"$f":"IF('Request Form'!$J49<>\"\",'Request Form'!$J49,\"\")","v":""},{"$f":"IF('Request Form'!$K49<>\"\",'Request Form'!$K49,\"\")","v":""},{"$f":"IF('Request Form'!$L49<>\"\",'Request Form'!$L49,\"\")","v":""},0,0,{"$f":"IF('Request Form'!$O49<>\"\",'Request Form'!$O49,\"\")","v":""},{"$f":"IF('Request Form'!$P49<>\"\",'Request Form'!$P49,\"\")","v":""},{"$f":"IF('Request Form'!$Q49<>\"\",'Request Form'!$Q49,\"\")","v":""}]
[{"$f":"IF('Request Form'!$D50<>\"\",'Request Form'!$D50,\"\")","v":""},{"$f":"IF(AND('Request Form'!$E$2<>\"\",A44<>\"\"),'Request Form'!$E$2,\"\")","v":""},{"$f":"IF(AND('Request Form'!$E$3<>\"\",A44<>\"\"),'Request Form'!$E$3,\"\")","v":""},0,{"$f":"IF(AND('Request Form'!$B$2<>\"\",A44<>\"\"),'Request Form'!$B$2,\"\")","v":""},{"$f":"IF(AND('Request Form'!$B$3<>\"\",A44<>\"\"),'Request Form'!$B$3,\"\")","v":""},"",{"$f":"IF('Request Form'!$B50<>\"\",'Request Form'!$B50,\"\")","v":""},0,0,0,{"$f":"IF('Request Form'!$G50<>\"\",'Request Form'!$G50,\"\")","v":""},0,{"$f":"IF('Request Form'!$I50<>\"\",'Request Form'!$I50,\"\")","v":""},{"$f":"IF('Request Form'!$J50<>\"\",'Request Form'!$J50,\"\")","v":""},{"$f":"IF('Request Form'!$K50<>\"\",'Request Form'!$K50,\"\")","v":""},{"$f":"IF('Request Form'!$L50<>\"\",'Request Form'!$L50,\"\")","v":""},0,0,{"$f":"IF('Request Form'!$O50<>\"\",'Request Form'!$O50,\"\")","v":""},{"$f":"IF('Request Form'!$P50<>\"\",'Request Form'!$P50,\"\")","v":""},{"$f":"IF('Request Form'!$Q50<>\"\",'Request Form'!$Q50,\"\")","v":""}]
[{"$f":"IF('Request Form'!$D51<>\"\",'Request Form'!$D51,\"\")","v":""},{"$f":"IF(AND('Request Form'!$E$2<>\"\",A45<>\"\"),'Request Form'!$E$2,\"\")","v":""},{"$f":"IF(AND('Request Form'!$E$3<>\"\",A45<>\"\"),'Request Form'!$E$3,\"\")","v":""},0,{"$f":"IF(AND('Request Form'!$B$2<>\"\",A45<>\"\"),'Request Form'!$B$2,\"\")","v":""},{"$f":"IF(AND('Request Form'!$B$3<>\"\",A45<>\"\"),'Request Form'!$B$3,\"\")","v":""},"",{"$f":"IF('Request Form'!$B51<>\"\",'Request Form'!$B51,\"\")","v":""},0,0,0,{"$f":"IF('Request Form'!$G51<>\"\",'Request Form'!$G51,\"\")","v":""},0,{"$f":"IF('Request Form'!$I51<>\"\",'Request Form'!$I51,\"\")","v":""},{"$f":"IF('Request Form'!$J51<>\"\",'Request Form'!$J51,\"\")","v":""},{"$f":"IF('Request Form'!$K51<>\"\",'Request Form'!$K51,\"\")","v":""},{"$f":"IF('Request Form'!$L51<>\"\",'Request Form'!$L51,\"\")","v":""},0,0,{"$f":"IF('Request Form'!$O51<>\"\",'Request Form'!$O51,\"\")","v":""},{"$f":"IF('Request Form'!$P51<>\"\",'Request Form'!$P51,\"\")","v":""},{"$f":"IF('Request Form'!$Q51<>\"\",'Request Form'!$Q51,\"\")","v":""}]
[{"$f":"IF('Request Form'!$D52<>\"\",'Request Form'!$D52,\"\")","v":""},{"$f":"IF(AND('Request Form'!$E$2<>\"\",A46<>\"\"),'Request Form'!$E$2,\"\")","v":""},{"$f":"IF(AND('Request Form'!$E$3<>\"\",A46<>\"\"),'Request Form'!$E$3,\"\")","v":""},0,{"$f":"IF(AND('Request Form'!$B$2<>\"\",A46<>\"\"),'Request Form'!$B$2,\"\")","v":""},{"$f":"IF(AND('Request Form'!$B$3<>\"\",A46<>\"\"),'Request Form'!$B$3,\"\")","v":""},"",{"$f":"IF('Request Form'!$B52<>\"\",'Request Form'!$B52,\"\")","v":""},0,0,0,{"$f":"IF('Request Form'!$G52<>\"\",'Request Form'!$G52,\"\")","v":""},0,{"$f":"IF('Request Form'!$I52<>\"\",'Request Form'!$I52,\"\")","v":""},{"$f":"IF('Request Form'!$J52<>\"\",'Request Form'!$J52,\"\")","v":""},{"$f":"IF('Request Form'!$K52<>\"\",'Request Form'!$K52,\"\")","v":""},{"$f":"IF('Request Form'!$L52<>\"\",'Request Form'!$L52,\"\")","v":""},0,0,{"$f":"IF('Request Form'!$O52<>\"\",'Request Form'!$O52,\"\")","v":""},{"$f":"IF('Request Form'!$P52<>\"\",'Request Form'!$P52,\"\")","v":""},{"$f":"IF('Request Form'!$Q52<>\"\",'Request Form'!$Q52,\"\")","v":""}]
[{"$f":"IF('Request Form'!$D53<>\"\",'Request Form'!$D53,\"\")","v":""},{"$f":"IF(AND('Request Form'!$E$2<>\"\",A47<>\"\"),'Request Form'!$E$2,\"\")","v":""},{"$f":"IF(AND('Request Form'!$E$3<>\"\",A47<>\"\"),'Request Form'!$E$3,\"\")","v":""},0,{"$f":"IF(AND('Request Form'!$B$2<>\"\",A47<>\"\"),'Request Form'!$B$2,\"\")","v":""},{"$f":"IF(AND('Request Form'!$B$3<>\"\",A47<>\"\"),'Request Form'!$B$3,\"\")","v":""},"",{"$f":"IF('Request Form'!$B53<>\"\",'Request Form'!$B53,\"\")","v":""},0,0,0,{"$f":"IF('Request Form'!$G53<>\"\",'Request Form'!$G53,\"\")","v":""},0,{"$f":"IF('Request Form'!$I53<>\"\",'Request Form'!$I53,\"\")","v":""},{"$f":"IF('Request Form'!$J53<>\"\",'Request Form'!$J53,\"\")","v":""},{"$f":"IF('Request Form'!$K53<>\"\",'Request Form'!$K53,\"\")","v":""},{"$f":"IF('Request Form'!$L53<>\"\",'Request Form'!$L53,\"\")","v":""},0,0,{"$f":"IF('Request Form'!$O53<>\"\",'Request Form'!$O53,\"\")","v":""},{"$f":"IF('Request Form'!$P53<>\"\",'Request Form'!$P53,\"\")","v":""},{"$f":"IF('Request Form'!$Q53<>\"\",'Request Form'!$Q53,\"\")","v":""}]
[{"$f":"IF('Request Form'!$D54<>\"\",'Request Form'!$D54,\"\")","v":""},{"$f":"IF(AND('Request Form'!$E$2<>\"\",A48<>\"\"),'Request Form'!$E$2,\"\")","v":""},{"$f":"IF(AND('Request Form'!$E$3<>\"\",A48<>\"\"),'Request Form'!$E$3,\"\")","v":""},0,{"$f":"IF(AND('Request Form'!$B$2<>\"\",A48<>\"\"),'Request Form'!$B$2,\"\")","v":""},{"$f":"IF(AND('Request Form'!$B$3<>\"\",A48<>\"\"),'Request Form'!$B$3,\"\")","v":""},"",{"$f":"IF('Request Form'!$B54<>\"\",'Request Form'!$B54,\"\")","v":""},0,0,0,{"$f":"IF('Request Form'!$G54<>\"\",'Request Form'!$G54,\"\")","v":""},0,{"$f":"IF('Request Form'!$I54<>\"\",'Request Form'!$I54,\"\")","v":""},{"$f":"IF('Request Form'!$J54<>\"\",'Request Form'!$J54,\"\")","v":""},{"$f":"IF('Request Form'!$K54<>\"\",'Request Form'!$K54,\"\")","v":""},{"$f":"IF('Request Form'!$L54<>\"\",'Request Form'!$L54,\"\")","v":""},0,0,{"$f":"IF('Request Form'!$O54<>\"\",'Request Form'!$O54,\"\")","v":""},{"$f":"IF('Request Form'!$P54<>\"\",'Request Form'!$P54,\"\")","v":""},{"$f":"IF('Request Form'!$Q54<>\"\",'Request Form'!$Q54,\"\")","v":""}]
[{"$f":"IF('Request Form'!$D55<>\"\",'Request Form'!$D55,\"\")","v":""},{"$f":"IF(AND('Request Form'!$E$2<>\"\",A49<>\"\"),'Request Form'!$E$2,\"\")","v":""},{"$f":"IF(AND('Request Form'!$E$3<>\"\",A49<>\"\"),'Request Form'!$E$3,\"\")","v":""},0,{"$f":"IF(AND('Request Form'!$B$2<>\"\",A49<>\"\"),'Request Form'!$B$2,\"\")","v":""},{"$f":"IF(AND('Request Form'!$B$3<>\"\",A49<>\"\"),'Request Form'!$B$3,\"\")","v":""},"",{"$f":"IF('Request Form'!$B55<>\"\",'Request Form'!$B55,\"\")","v":""},0,0,0,{"$f":"IF('Request Form'!$G55<>\"\",'Request Form'!$G55,\"\")","v":""},0,{"$f":"IF('Request Form'!$I55<>\"\",'Request Form'!$I55,\"\")","v":""},{"$f":"IF('Request Form'!$J55<>\"\",'Request Form'!$J55,\"\")","v":""},{"$f":"IF('Request Form'!$K55<>\"\",'Request Form'!$K55,\"\")","v":""},{"$f":"IF('Request Form'!$L55<>\"\",'Request Form'!$L55,\"\")","v":""},0,0,{"$f":"IF('Request Form'!$O55<>\"\",'Request Form'!$O55,\"\")","v":""},{"$f":"IF('Request Form'!$P55<>\"\",'Request Form'!$P55,\"\")","v":""},{"$f":"IF('Request Form'!$Q55<>\"\",'Request Form'!$Q55,\"\")","v":""}]
[{"$f":"IF('Request Form'!$D56<>\"\",'Request Form'!$D56,\"\")","v":""},{"$f":"IF(AND('Request Form'!$E$2<>\"\",A50<>\"\"),'Request Form'!$E$2,\"\")","v":""},{"$f":"IF(AND('Request Form'!$E$3<>\"\",A50<>\"\"),'Request Form'!$E$3,\"\")","v":""},0,{"$f":"IF(AND('Request Form'!$B$2<>\"\",A50<>\"\"),'Request Form'!$B$2,\"\")","v":""},{"$f":"IF(AND('Request Form'!$B$3<>\"\",A50<>\"\"),'Request Form'!$B$3,\"\")","v":""},"",{"$f":"IF('Request Form'!$B56<>\"\",'Request Form'!$B56,\"\")","v":""},0,0,0,{"$f":"IF('Request Form'!$G56<>\"\",'Request Form'!$G56,\"\")","v":""},0,{"$f":"IF('Request Form'!$I56<>\"\",'Request Form'!$I56,\"\")","v":""},{"$f":"IF('Request Form'!$J56<>\"\",'Request Form'!$J56,\"\")","v":""},{"$f":"IF('Request Form'!$K56<>\"\",'Request Form'!$K56,\"\")","v":""},{"$f":"IF('Request Form'!$L56<>\"\",'Request Form'!$L56,\"\")","v":""},0,0,{"$f":"IF('Request Form'!$O56<>\"\",'Request Form'!$O56,\"\")","v":""},{"$f":"IF('Request Form'!$P56<>\"\",'Request Form'!$P56,\"\")","v":""},{"$f":"IF('Request Form'!$Q56<>\"\",'Request Form'!$Q56,\"\")","v":""}]
[{"$f":"IF('Request Form'!$D57<>\"\",'Request Form'!$D57,\"\")","v":""},{"$f":"IF(AND('Request Form'!$E$2<>\"\",A51<>\"\"),'Request Form'!$E$2,\"\")","v":""},{"$f":"IF(AND('Request Form'!$E$3<>\"\",A51<>\"\"),'Request Form'!$E$3,\"\")","v":""},0,{"$f":"IF(AND('Request Form'!$B$2<>\"\",A51<>\"\"),'Request Form'!$B$2,\"\")","v":""},{"$f":"IF(AND('Request Form'!$B$3<>\"\",A51<>\"\"),'Request Form'!$B$3,\"\")","v":""},"",{"$f":"IF('Request Form'!$B57<>\"\",'Request Form'!$B57,\"\")","v":""},0,0,0,{"$f":"IF('Request Form'!$G57<>\"\",'Request Form'!$G57,\"\")","v":""},0,{"$f":"IF('Request Form'!$I57<>\"\",'Request Form'!$I57,\"\")","v":""},{"$f":"IF('Request Form'!$J57<>\"\",'Request Form'!$J57,\"\")","v":""},{"$f":"IF('Request Form'!$K57<>\"\",'Request Form'!$K57,\"\")","v":""},{"$f":"IF('Request Form'!$L57<>\"\",'Request Form'!$L57,\"\")","v":""},0,0,{"$f":"IF('Request Form'!$O57<>\"\",'Request Form'!$O57,\"\")","v":""},{"$f":"IF('Request Form'!$P57<>\"\",'Request Form'!$P57,\"\")","v":""},{"$f":"IF('Request Form'!$Q57<>\"\",'Request Form'!$Q57,\"\")","v":""}]

{"sheet":"Reference_data","index":2,"n_rows":26,"n_cols":12,"rows_kept":26,"cut":false,"hidden":true,"merged":[[0,10,0,11],[0,0,0,1],[0,2,0,3],[0,4,0,5],[0,6,0,7],[0,8,0,9]]}
["Request type",null,"Route",null,"Sailing",null,"Restricted",null,"Vehicle type",null,"Language"]
[0,"Select…",0,"Select…",0,"Select…",0,"Select…",0,"Select…",0,"Select…"]
[1,"Booking",1,"DOCA",1,"01:00",1,"Youth group",1,"Bicycle",1,"English"]
[2,"Amendment",2,"CADO",2,"02:00",2,"Referrals",2,"Coach",2,"French"]
[11,"Cancellation",3,"HUEU",3,"03:00",3,"Supporters",3,"Double-Decker",3,"German"]
[null,null,4,"EUHU",4,"04:00",5,"Cross Year",4,"Foot passenger",4,"Dutch"]
[null,null,5,"LACR",5,"05:00",null,null,5,"Minibus"]
[null,null,6,"CRLA",6,"06:00"]
[null,null,null,null,7,"07:00"]
[null,null,null,null,8,"08:00"]
[null,null,null,null,9,"09:00"]
[null,null,null,null,10,"10:00"]
[null,null,null,null,11,"11:00"]
[null,null,null,null,12,"12:00"]
[null,null,null,null,13,"13:00"]
[null,null,null,null,14,"14:00"]
[null,null,null,null,15,"15:00"]
[null,null,null,null,16,"16:00"]
[null,null,null,null,17,"17:00"]
[null,null,null,null,18,"18:00"]
[null,null,null,null,19,"19:00"]
[null,null,null,null,20,"20:00"]
[null,null,null,null,21,"21:00"]
[null,null,null,null,22,"22:00"]
[null,null,null,null,23,"23:00"]
[null,null,null,null,24,"23:59"]